BEGIN:VCALENDAR
VERSION:2.0
PRODID:-//Controversy - ECPv6.15.20//NONSGML v1.0//EN
CALSCALE:GREGORIAN
METHOD:PUBLISH
X-WR-CALNAME:Controversy
X-ORIGINAL-URL:https://controversy412.com
X-WR-CALDESC:Events for Controversy
REFRESH-INTERVAL;VALUE=DURATION:PT1H
X-Robots-Tag:noindex
X-PUBLISHED-TTL:PT1H
BEGIN:VTIMEZONE
TZID:UTC
BEGIN:STANDARD
TZOFFSETFROM:+0000
TZOFFSETTO:+0000
TZNAME:UTC
DTSTART:20250101T000000
END:STANDARD
END:VTIMEZONE
BEGIN:VTIMEZONE
TZID:America/New_York
BEGIN:DAYLIGHT
TZOFFSETFROM:-0500
TZOFFSETTO:-0400
TZNAME:EDT
DTSTART:20250309T070000
END:DAYLIGHT
BEGIN:STANDARD
TZOFFSETFROM:-0400
TZOFFSETTO:-0500
TZNAME:EST
DTSTART:20251102T060000
END:STANDARD
BEGIN:DAYLIGHT
TZOFFSETFROM:-0500
TZOFFSETTO:-0400
TZNAME:EDT
DTSTART:20260308T070000
END:DAYLIGHT
BEGIN:STANDARD
TZOFFSETFROM:-0400
TZOFFSETTO:-0500
TZNAME:EST
DTSTART:20261101T060000
END:STANDARD
BEGIN:DAYLIGHT
TZOFFSETFROM:-0500
TZOFFSETTO:-0400
TZNAME:EDT
DTSTART:20270314T070000
END:DAYLIGHT
BEGIN:STANDARD
TZOFFSETFROM:-0400
TZOFFSETTO:-0500
TZNAME:EST
DTSTART:20271107T060000
END:STANDARD
END:VTIMEZONE
BEGIN:VEVENT
DTSTART;TZID=UTC:20260421T190000
DTEND;TZID=UTC:20260421T210000
DTSTAMP:20260421T064039
CREATED:20250404T013903Z
LAST-MODIFIED:20250404T013903Z
UID:10001180-1776798000-1776805200@controversy412.com
SUMMARY:Controversial Happy Hour
DESCRIPTION:🍹 DAILY HAPPY HOUR at Club Controversy! 🍻 \nJoin us every night from 7 PM – 9 PM for unbeatable drink specials and a vibe you won’t find anywhere else! \n🔥 1/2 OFF Mixed Drinks\n🔥 $3 Domestic Beers \n📍 1635 West Carson Street\, Pittsburgh\, PA \nWhether you’re pre-gaming or winding down\, Club Controversy is the place to be! Come for the drinks\, stay for the energy. 🍾🎶 \nTag your crew & meet us at the bar! 🥂 #ClubControversy #HappyHour #DrinkSpecials #PittsburghNights
URL:https://controversy412.com/event/controversial-happy-hour/2026-04-21/
LOCATION:Controversy\, 1635 West Carson Street\, Pittsburgh\, PA\, 15219\, United States
ATTACH;FMTTYPE=image/jpeg:https://controversy412.com/wp-content/uploads/2025/04/happhourAPRIL.jpg
END:VEVENT
BEGIN:VEVENT
DTSTART;TZID=America/New_York:20260421T190000
DTEND;TZID=America/New_York:20260421T233000
DTSTAMP:20260421T064039
CREATED:20260414T233134Z
LAST-MODIFIED:20260421T103355Z
UID:10001319-1776798000-1776814200@controversy412.com
SUMMARY:ON THE CLOCK: DRAFT WEEK KARAOKE
DESCRIPTION:This is your official pregame to Draft Week — where the stage becomes your field and every performance is your shot at going #1.\n\n\n\n📅 Tuesday\, April 21 \nDRAFT WEEK IS HERE… and we’re kicking it off with a PARTY. 🔥 \nBefore the picks are in… before the names are called… we’re putting YOU on the clock. \n \nThis is your official pregame to Draft Week — where the stage becomes your field and every performance is your shot at going #1. \n \n🔥 PREGAME DETAILS: \n• Doors Open: 7:00 PM \n• Karaoke Kicks Off: 9:00 PM \n• NFL Draft Energy All Night \n• VIP & Contest Sign-Ups Available \n \n🎯 GAME TIME: \nStep up like it’s your combine. \nPick your anthem. \nOwn the crowd. \n \nThis isn’t just karaoke… \nThis is your draft moment. \n \n🏆 $1\,000 SIGNING BONUS FOR THE #1 PICK 🏆 \nOne performer will dominate the night and take home the bag 💰 \n \n🍾 LOCKER ROOM PERKS: \n• VIP Sections Available \n• Bottle Service Ready \n• High-energy crowd & entertainers \n• Full nightclub vibes after karaoke \n \n📲 Scan the QR code or message us to enter the contest or reserve VIP. \n \n📍 1635 West Carson Street\, Pittsburgh\, PA \n📞 412-223-6640 \n🌐 www.controversy412.com \n \n🏈🎤 ON THE CLOCK: DRAFT WEEK KARAOKE 🎤🏈 \n📅 Tuesday\, April 21 \n📍 Club Controversy – Pittsburgh\, PA
URL:https://controversy412.com/event/on-the-clock-draft-week-karaoke/
LOCATION:1635 W Carson St\, 1635 West Carson Street\, Pittsburgh\, PA\, 15219\, United States
ATTACH;FMTTYPE=image/jpeg:https://controversy412.com/wp-content/uploads/2026/04/8a7c30b50376d0d56892084885f2c711.jpg
END:VEVENT
END:VCALENDAR