BEGIN:VCALENDAR
VERSION:2.0
PRODID:-//Controversy - ECPv6.15.20//NONSGML v1.0//EN
CALSCALE:GREGORIAN
METHOD:PUBLISH
X-WR-CALNAME:Controversy
X-ORIGINAL-URL:https://controversy412.com
X-WR-CALDESC:Events for Controversy
REFRESH-INTERVAL;VALUE=DURATION:PT1H
X-Robots-Tag:noindex
X-PUBLISHED-TTL:PT1H
BEGIN:VTIMEZONE
TZID:UTC
BEGIN:STANDARD
TZOFFSETFROM:+0000
TZOFFSETTO:+0000
TZNAME:UTC
DTSTART:20250101T000000
END:STANDARD
END:VTIMEZONE
BEGIN:VTIMEZONE
TZID:America/New_York
BEGIN:DAYLIGHT
TZOFFSETFROM:-0500
TZOFFSETTO:-0400
TZNAME:EDT
DTSTART:20250309T070000
END:DAYLIGHT
BEGIN:STANDARD
TZOFFSETFROM:-0400
TZOFFSETTO:-0500
TZNAME:EST
DTSTART:20251102T060000
END:STANDARD
BEGIN:DAYLIGHT
TZOFFSETFROM:-0500
TZOFFSETTO:-0400
TZNAME:EDT
DTSTART:20260308T070000
END:DAYLIGHT
BEGIN:STANDARD
TZOFFSETFROM:-0400
TZOFFSETTO:-0500
TZNAME:EST
DTSTART:20261101T060000
END:STANDARD
BEGIN:DAYLIGHT
TZOFFSETFROM:-0500
TZOFFSETTO:-0400
TZNAME:EDT
DTSTART:20270314T070000
END:DAYLIGHT
BEGIN:STANDARD
TZOFFSETFROM:-0400
TZOFFSETTO:-0500
TZNAME:EST
DTSTART:20271107T060000
END:STANDARD
END:VTIMEZONE
BEGIN:VEVENT
DTSTART;TZID=UTC:20260423T190000
DTEND;TZID=UTC:20260423T210000
DTSTAMP:20260423T112835
CREATED:20250404T013903Z
LAST-MODIFIED:20250404T013903Z
UID:10001182-1776970800-1776978000@controversy412.com
SUMMARY:Controversial Happy Hour
DESCRIPTION:🍹 DAILY HAPPY HOUR at Club Controversy! 🍻 \nJoin us every night from 7 PM – 9 PM for unbeatable drink specials and a vibe you won’t find anywhere else! \n🔥 1/2 OFF Mixed Drinks\n🔥 $3 Domestic Beers \n📍 1635 West Carson Street\, Pittsburgh\, PA \nWhether you’re pre-gaming or winding down\, Club Controversy is the place to be! Come for the drinks\, stay for the energy. 🍾🎶 \nTag your crew & meet us at the bar! 🥂 #ClubControversy #HappyHour #DrinkSpecials #PittsburghNights
URL:https://controversy412.com/event/controversial-happy-hour/2026-04-23/
LOCATION:Controversy\, 1635 West Carson Street\, Pittsburgh\, PA\, 15219\, United States
ATTACH;FMTTYPE=image/jpeg:https://controversy412.com/wp-content/uploads/2025/04/happhourAPRIL.jpg
END:VEVENT
BEGIN:VEVENT
DTSTART;TZID=America/New_York:20260423T200000
DTEND;TZID=America/New_York:20260424T020000
DTSTAMP:20260423T112835
CREATED:20260422T011625Z
LAST-MODIFIED:20260423T145019Z
UID:10001320-1776974400-1776996000@controversy412.com
SUMMARY:NFL DRAFT OPENING DAY PARTY
DESCRIPTION:Your #1 Pick for Draft Week Starts Here.\n\n\nKick off NFL Draft Weekend the right way at Controversy’s Opening Day Party — where Pittsburgh’s energy meets upscale nightlife. \nWe’re bringing in DJ Rumdada to set the tone all night with high-energy sets\, surrounded by the city’s best entertainers\, premium bottle service\, and an atmosphere built for Draft Week. \nWhether you’re celebrating your team’s picks or just looking for the best party in the city — this is the move.
URL:https://controversy412.com/event/nfl-draft-opening-day-party/
LOCATION:1635 W Carson St\, 1635 West Carson Street\, Pittsburgh\, PA\, 15219\, United States
ATTACH;FMTTYPE=image/jpeg:https://controversy412.com/wp-content/uploads/2026/04/7f661a761062dfd053d48bd01842ed09.jpg
END:VEVENT
END:VCALENDAR