BEGIN:VCALENDAR
VERSION:2.0
PRODID:-//Controversy - ECPv6.15.20//NONSGML v1.0//EN
CALSCALE:GREGORIAN
METHOD:PUBLISH
X-WR-CALNAME:Controversy
X-ORIGINAL-URL:https://controversy412.com
X-WR-CALDESC:Events for Controversy
REFRESH-INTERVAL;VALUE=DURATION:PT1H
X-Robots-Tag:noindex
X-PUBLISHED-TTL:PT1H
BEGIN:VTIMEZONE
TZID:UTC
BEGIN:STANDARD
TZOFFSETFROM:+0000
TZOFFSETTO:+0000
TZNAME:UTC
DTSTART:20280101T000000
END:STANDARD
END:VTIMEZONE
BEGIN:VEVENT
DTSTART;TZID=UTC:20290504T190000
DTEND;TZID=UTC:20290504T210000
DTSTAMP:20260421T193658
CREATED:20240813T034238Z
LAST-MODIFIED:20240813T034400Z
UID:10000253-1872615600-1872622800@controversy412.com
SUMMARY:After-Work : Free Cover
DESCRIPTION:Free cover between 7 PM -9PM
URL:https://controversy412.com/event/after-work-free-cover/2029-05-04/
LOCATION:Controversy\, 1635 West Carson Street\, Pittsburgh\, PA\, 15219\, United States
ATTACH;FMTTYPE=image/png:https://controversy412.com/wp-content/uploads/2024/08/Screen-Shot-2024-08-12-at-1.04.46-PM.png
END:VEVENT
BEGIN:VEVENT
DTSTART;TZID=UTC:20290506T190000
DTEND;TZID=UTC:20290507T030000
DTSTAMP:20260421T193658
CREATED:20240813T071152Z
LAST-MODIFIED:20240813T071215Z
UID:10000776-1872788400-1872817200@controversy412.com
SUMMARY:SUNDAY
DESCRIPTION:
URL:https://controversy412.com/event/sunday/2029-05-06/
LOCATION:PA
ATTACH;FMTTYPE=image/jpeg:https://controversy412.com/wp-content/uploads/2024/08/CONTRO-NORM.jpg
END:VEVENT
BEGIN:VEVENT
DTSTART;TZID=UTC:20290511T190000
DTEND;TZID=UTC:20290511T210000
DTSTAMP:20260421T193658
CREATED:20240813T034238Z
LAST-MODIFIED:20240813T034400Z
UID:10000254-1873220400-1873227600@controversy412.com
SUMMARY:After-Work : Free Cover
DESCRIPTION:Free cover between 7 PM -9PM
URL:https://controversy412.com/event/after-work-free-cover/2029-05-11/
LOCATION:Controversy\, 1635 West Carson Street\, Pittsburgh\, PA\, 15219\, United States
ATTACH;FMTTYPE=image/png:https://controversy412.com/wp-content/uploads/2024/08/Screen-Shot-2024-08-12-at-1.04.46-PM.png
END:VEVENT
BEGIN:VEVENT
DTSTART;TZID=UTC:20290513T190000
DTEND;TZID=UTC:20290514T030000
DTSTAMP:20260421T193658
CREATED:20240813T071152Z
LAST-MODIFIED:20240813T071215Z
UID:10000777-1873393200-1873422000@controversy412.com
SUMMARY:SUNDAY
DESCRIPTION:
URL:https://controversy412.com/event/sunday/2029-05-13/
LOCATION:PA
ATTACH;FMTTYPE=image/jpeg:https://controversy412.com/wp-content/uploads/2024/08/CONTRO-NORM.jpg
END:VEVENT
BEGIN:VEVENT
DTSTART;TZID=UTC:20290518T190000
DTEND;TZID=UTC:20290518T210000
DTSTAMP:20260421T193658
CREATED:20240813T034238Z
LAST-MODIFIED:20240813T034400Z
UID:10000255-1873825200-1873832400@controversy412.com
SUMMARY:After-Work : Free Cover
DESCRIPTION:Free cover between 7 PM -9PM
URL:https://controversy412.com/event/after-work-free-cover/2029-05-18/
LOCATION:Controversy\, 1635 West Carson Street\, Pittsburgh\, PA\, 15219\, United States
ATTACH;FMTTYPE=image/png:https://controversy412.com/wp-content/uploads/2024/08/Screen-Shot-2024-08-12-at-1.04.46-PM.png
END:VEVENT
BEGIN:VEVENT
DTSTART;TZID=UTC:20290520T190000
DTEND;TZID=UTC:20290521T030000
DTSTAMP:20260421T193658
CREATED:20240813T071152Z
LAST-MODIFIED:20240813T071215Z
UID:10000778-1873998000-1874026800@controversy412.com
SUMMARY:SUNDAY
DESCRIPTION:
URL:https://controversy412.com/event/sunday/2029-05-20/
LOCATION:PA
ATTACH;FMTTYPE=image/jpeg:https://controversy412.com/wp-content/uploads/2024/08/CONTRO-NORM.jpg
END:VEVENT
BEGIN:VEVENT
DTSTART;TZID=UTC:20290525T190000
DTEND;TZID=UTC:20290525T210000
DTSTAMP:20260421T193658
CREATED:20240813T034238Z
LAST-MODIFIED:20240813T034400Z
UID:10000256-1874430000-1874437200@controversy412.com
SUMMARY:After-Work : Free Cover
DESCRIPTION:Free cover between 7 PM -9PM
URL:https://controversy412.com/event/after-work-free-cover/2029-05-25/
LOCATION:Controversy\, 1635 West Carson Street\, Pittsburgh\, PA\, 15219\, United States
ATTACH;FMTTYPE=image/png:https://controversy412.com/wp-content/uploads/2024/08/Screen-Shot-2024-08-12-at-1.04.46-PM.png
END:VEVENT
BEGIN:VEVENT
DTSTART;TZID=UTC:20290527T190000
DTEND;TZID=UTC:20290528T030000
DTSTAMP:20260421T193659
CREATED:20240813T071152Z
LAST-MODIFIED:20240813T071215Z
UID:10000779-1874602800-1874631600@controversy412.com
SUMMARY:SUNDAY
DESCRIPTION:
URL:https://controversy412.com/event/sunday/2029-05-27/
LOCATION:PA
ATTACH;FMTTYPE=image/jpeg:https://controversy412.com/wp-content/uploads/2024/08/CONTRO-NORM.jpg
END:VEVENT
END:VCALENDAR