BEGIN:VCALENDAR
VERSION:2.0
PRODID:-//Controversy - ECPv6.15.20//NONSGML v1.0//EN
CALSCALE:GREGORIAN
METHOD:PUBLISH
X-ORIGINAL-URL:https://controversy412.com
X-WR-CALDESC:Events for Controversy
REFRESH-INTERVAL;VALUE=DURATION:PT1H
X-Robots-Tag:noindex
X-PUBLISHED-TTL:PT1H
BEGIN:VTIMEZONE
TZID:UTC
BEGIN:STANDARD
TZOFFSETFROM:+0000
TZOFFSETTO:+0000
TZNAME:UTC
DTSTART:20280101T000000
END:STANDARD
END:VTIMEZONE
BEGIN:VEVENT
DTSTART;TZID=UTC:20290803T190000
DTEND;TZID=UTC:20290803T210000
DTSTAMP:20260422T033855
CREATED:20240813T034238Z
LAST-MODIFIED:20240813T034400Z
UID:10000266-1880478000-1880485200@controversy412.com
SUMMARY:After-Work : Free Cover
DESCRIPTION:Free cover between 7 PM -9PM
URL:https://controversy412.com/event/after-work-free-cover/2029-08-03/
LOCATION:Controversy\, 1635 West Carson Street\, Pittsburgh\, PA\, 15219\, United States
ATTACH;FMTTYPE=image/png:https://controversy412.com/wp-content/uploads/2024/08/Screen-Shot-2024-08-12-at-1.04.46-PM.png
END:VEVENT
BEGIN:VEVENT
DTSTART;TZID=UTC:20290805T190000
DTEND;TZID=UTC:20290806T030000
DTSTAMP:20260422T033855
CREATED:20240813T071152Z
LAST-MODIFIED:20240813T071215Z
UID:10000789-1880650800-1880679600@controversy412.com
SUMMARY:SUNDAY
DESCRIPTION:
URL:https://controversy412.com/event/sunday/2029-08-05/
LOCATION:PA
ATTACH;FMTTYPE=image/jpeg:https://controversy412.com/wp-content/uploads/2024/08/CONTRO-NORM.jpg
END:VEVENT
BEGIN:VEVENT
DTSTART;TZID=UTC:20290810T190000
DTEND;TZID=UTC:20290810T210000
DTSTAMP:20260422T033855
CREATED:20240813T034238Z
LAST-MODIFIED:20240813T034400Z
UID:10000267-1881082800-1881090000@controversy412.com
SUMMARY:After-Work : Free Cover
DESCRIPTION:Free cover between 7 PM -9PM
URL:https://controversy412.com/event/after-work-free-cover/2029-08-10/
LOCATION:Controversy\, 1635 West Carson Street\, Pittsburgh\, PA\, 15219\, United States
ATTACH;FMTTYPE=image/png:https://controversy412.com/wp-content/uploads/2024/08/Screen-Shot-2024-08-12-at-1.04.46-PM.png
END:VEVENT
BEGIN:VEVENT
DTSTART;TZID=UTC:20290812T190000
DTEND;TZID=UTC:20290813T030000
DTSTAMP:20260422T033855
CREATED:20240813T071152Z
LAST-MODIFIED:20240813T071215Z
UID:10000790-1881255600-1881284400@controversy412.com
SUMMARY:SUNDAY
DESCRIPTION:
URL:https://controversy412.com/event/sunday/2029-08-12/
LOCATION:PA
ATTACH;FMTTYPE=image/jpeg:https://controversy412.com/wp-content/uploads/2024/08/CONTRO-NORM.jpg
END:VEVENT
BEGIN:VEVENT
DTSTART;TZID=UTC:20290817T190000
DTEND;TZID=UTC:20290817T210000
DTSTAMP:20260422T033855
CREATED:20240813T034238Z
LAST-MODIFIED:20240813T034400Z
UID:10001216-1881687600-1881694800@controversy412.com
SUMMARY:After-Work : Free Cover
DESCRIPTION:Free cover between 7 PM -9PM
URL:https://controversy412.com/event/after-work-free-cover/2029-08-17/
LOCATION:Controversy\, 1635 West Carson Street\, Pittsburgh\, PA\, 15219\, United States
ATTACH;FMTTYPE=image/png:https://controversy412.com/wp-content/uploads/2024/08/Screen-Shot-2024-08-12-at-1.04.46-PM.png
END:VEVENT
BEGIN:VEVENT
DTSTART;TZID=UTC:20290824T190000
DTEND;TZID=UTC:20290824T210000
DTSTAMP:20260422T033855
CREATED:20240813T034238Z
LAST-MODIFIED:20240813T034400Z
UID:10001217-1882292400-1882299600@controversy412.com
SUMMARY:After-Work : Free Cover
DESCRIPTION:Free cover between 7 PM -9PM
URL:https://controversy412.com/event/after-work-free-cover/2029-08-24/
LOCATION:Controversy\, 1635 West Carson Street\, Pittsburgh\, PA\, 15219\, United States
ATTACH;FMTTYPE=image/png:https://controversy412.com/wp-content/uploads/2024/08/Screen-Shot-2024-08-12-at-1.04.46-PM.png
END:VEVENT
BEGIN:VEVENT
DTSTART;TZID=UTC:20290831T190000
DTEND;TZID=UTC:20290831T210000
DTSTAMP:20260422T033855
CREATED:20240813T034238Z
LAST-MODIFIED:20240813T034400Z
UID:10001218-1882897200-1882904400@controversy412.com
SUMMARY:After-Work : Free Cover
DESCRIPTION:Free cover between 7 PM -9PM
URL:https://controversy412.com/event/after-work-free-cover/2029-08-31/
LOCATION:Controversy\, 1635 West Carson Street\, Pittsburgh\, PA\, 15219\, United States
ATTACH;FMTTYPE=image/png:https://controversy412.com/wp-content/uploads/2024/08/Screen-Shot-2024-08-12-at-1.04.46-PM.png
END:VEVENT
END:VCALENDAR